BEGIN:VCALENDAR
VERSION:2.0
CALSCALE:GREGORIAN
PRODID:-//Diputació de Barcelona//DibaCMS//EN
BEGIN:VEVENT
UID:2495
DTSTAMP:20260420T151607
DTSTART:20170620T000000
DTEND:20170620T235900
SUMMARY:Dimarts, Barri del Gegant
LOCATION:
METHOD:PUBLISH
X-WR-CALNAME:capellades@capellades.cat
X-WR-TIMEZONE:Europe/Madrid
DESCRIPTION:El dimarts és el Barri del Gegant.

Al matí sortiran els nens més petits a portar la panera des de la plaça Àngel Guimerà, fins a l'església on el mossèn beneirà els tortells. La cercavila anirà presidida per la Banda de l'Escola de Música de Capellades i pels Gegants de Capellades.

URI:https://www.capellades.cat/actualitat/agenda/dimarts-barri-del-gegant.html
CLASS:PUBLIC
END:VEVENT
END:VCALENDAR
