BEGIN:VCALENDAR
VERSION:2.0
CALSCALE:GREGORIAN
PRODID:-//Diputació de Barcelona//DibaCMS//EN
BEGIN:VEVENT
UID:2494
DTSTAMP:20260420T133328
DTSTART:20170619T000000
DTEND:20170619T235900
SUMMARY:Dilluns, Barri del Ruc
LOCATION:
METHOD:PUBLISH
X-WR-CALNAME:capellades@capellades.cat
X-WR-TIMEZONE:Europe/Madrid
DESCRIPTION:Dins les Festes de Carrer, dilluns es celebra a Capellades el Barri del Ruc.

URI:https://www.capellades.cat/actualitat/agenda/dilluns-barri-del-ruc.html
CLASS:PUBLIC
END:VEVENT
END:VCALENDAR
