BEGIN:VCALENDAR
VERSION:2.0
CALSCALE:GREGORIAN
PRODID:-//Diputació de Barcelona//DibaCMS//EN
BEGIN:VEVENT
UID:2493
DTSTAMP:20260420T152319
DTSTART:20170618T171500
DTEND:20170617T190000
SUMMARY:Projecte, "Capellades, cada nen un capgròs"
LOCATION:
METHOD:PUBLISH
X-WR-CALNAME:capellades@capellades.cat
X-WR-TIMEZONE:Europe/Madrid
DESCRIPTION:Aquest diumenge es farà la festa final del projecte "Capellades, cada nen un capgròs".

URI:https://www.capellades.cat/actualitat/agenda/projecte-capellades-cada-nen-un-capgros.html
CLASS:PUBLIC
END:VEVENT
END:VCALENDAR
