BEGIN:VCALENDAR
VERSION:2.0
CALSCALE:GREGORIAN
PRODID:-//Diputació de Barcelona//DibaCMS//EN
BEGIN:VEVENT
UID:2492
DTSTAMP:20260420T134927
DTSTART:20170617T130000
DTEND:20170617T133000
SUMMARY:Inauguració exposició 
LOCATION:Pau Casals, 10 08786 Capellades
METHOD:PUBLISH
X-WR-CALNAME:capellades@capellades.cat
X-WR-TIMEZONE:Europe/Madrid
DESCRIPTION:Aquest dissabte s'inaugurarà l'exposició "Mediterraneo. Appuntti", de Daniela Colafranceschi.

URI:https://www.capellades.cat/actualitat/agenda/inauguracio-exposicio-mediterraneo-appuntti.html
CLASS:PUBLIC
END:VEVENT
END:VCALENDAR
