BEGIN:VCALENDAR
VERSION:2.0
CALSCALE:GREGORIAN
PRODID:-//Diputació de Barcelona//DibaCMS//EN
BEGIN:VEVENT
UID:2491
DTSTAMP:20260420T133516
DTSTART:20170617T203000
DTEND:20170617T230000
SUMMARY:Sopar final de curs CF Sala Capellades
LOCATION:Pg. Miquel i Mas, 19 08786 Capellades
METHOD:PUBLISH
X-WR-CALNAME:capellades@capellades.cat
X-WR-TIMEZONE:Europe/Madrid
DESCRIPTION:El Club de Futbol Sala Capellades farà aquest dissabte el sopar de final de temporada, al pati de l'Escola Marquès de la Pobla.

URI:https://www.capellades.cat/actualitat/agenda/sopar-final-de-curs-cf-sala-capellades.html
CLASS:PUBLIC
END:VEVENT
END:VCALENDAR
