BEGIN:VCALENDAR
VERSION:2.0
CALSCALE:GREGORIAN
PRODID:-//Diputació de Barcelona//DibaCMS//EN
BEGIN:VEVENT
UID:2490
DTSTAMP:20260420T150049
DTSTART:20170617T113000
DTEND:20170617T220000
SUMMARY:Barri de les Bledes
LOCATION:
METHOD:PUBLISH
X-WR-CALNAME:capellades@capellades.cat
X-WR-TIMEZONE:Europe/Madrid
DESCRIPTION:Dissabte és el Barri de les Bledes.

URI:https://www.capellades.cat/actualitat/agenda/barri-de-les-bledes.html
CLASS:PUBLIC
END:VEVENT
END:VCALENDAR
