BEGIN:VCALENDAR
VERSION:2.0
CALSCALE:GREGORIAN
PRODID:-//Diputació de Barcelona//DibaCMS//EN
BEGIN:VEVENT
UID:2489
DTSTAMP:20260420T133415
DTSTART:20170617T090000
DTEND:20170617T200000
SUMMARY:Campionat de Futbol 7 Mixt
LOCATION:
METHOD:PUBLISH
X-WR-CALNAME:capellades@capellades.cat
X-WR-TIMEZONE:Europe/Madrid
DESCRIPTION:El grup de Dimonis i l'Ajuntament organitzen el VI Campionat de Futbol 7 Mixt.

URI:https://www.capellades.cat/actualitat/agenda/campionat-de-futbol-7-mixt.html
CLASS:PUBLIC
END:VEVENT
END:VCALENDAR
