BEGIN:VCALENDAR
VERSION:2.0
CALSCALE:GREGORIAN
PRODID:-//Diputació de Barcelona//DibaCMS//EN
BEGIN:VEVENT
UID:2487
DTSTAMP:20260420T181247
DTSTART:20170616T190000
DTEND:20170616T200000
SUMMARY:Estones de conversa en anglès
LOCATION:C/ Pilar, 13 08786 Capellades
METHOD:PUBLISH
X-WR-CALNAME:capellades@capellades.cat
X-WR-TIMEZONE:Europe/Madrid
DESCRIPTION:L'estona de conversa en anglès d'aquest mes de juny girarà al voltant de l'escriptor Charles Dickens, primer autor que va introduir la consciència social dins el relat.

URI:https://www.capellades.cat/actualitat/agenda/2487-estones-de-conversa-en-angles.html
CLASS:PUBLIC
END:VEVENT
END:VCALENDAR
