BEGIN:VCALENDAR
VERSION:2.0
CALSCALE:GREGORIAN
PRODID:-//Diputació de Barcelona//DibaCMS//EN
BEGIN:VEVENT
UID:2486
DTSTAMP:20260420T162948
DTSTART:20170616T210000
DTEND:20170616T230000
SUMMARY:Pregó de Festes del Carrer
LOCATION:
METHOD:PUBLISH
X-WR-CALNAME:capellades@capellades.cat
X-WR-TIMEZONE:Europe/Madrid
DESCRIPTION:Pregó de Festes del Carrer a càrrec de Capgrossos de Capellades.

URI:https://www.capellades.cat/actualitat/agenda/prego-de-festes-del-carrer.html
CLASS:PUBLIC
END:VEVENT
END:VCALENDAR
