BEGIN:VCALENDAR
VERSION:2.0
CALSCALE:GREGORIAN
PRODID:-//Diputació de Barcelona//DibaCMS//EN
BEGIN:VEVENT
UID:2473
DTSTAMP:20260420T150125
DTSTART:20170615T193000
DTEND:20170615T210000
SUMMARY:Xerrada de salut, amb Gemma López
LOCATION:C/ Pilar, 13 08786 Capellades
METHOD:PUBLISH
X-WR-CALNAME:capellades@capellades.cat
X-WR-TIMEZONE:Europe/Madrid
DESCRIPTION:Nova xerrada de salut en aquest cas per parlar amb Gemma López sobre l'inici de la lactància.

URI:https://www.capellades.cat/actualitat/agenda/2473-xerrada-de-salut-amb-gemma-lopez.html
CLASS:PUBLIC
END:VEVENT
END:VCALENDAR
