BEGIN:VCALENDAR
VERSION:2.0
CALSCALE:GREGORIAN
PRODID:-//Diputació de Barcelona//DibaCMS//EN
BEGIN:VEVENT
UID:2468
DTSTAMP:20260421T101631
DTSTART:20170612T193000
DTEND:20170612T200000
SUMMARY:Estones de conversa en alemany
LOCATION:C/ Pilar, 13 08786 Capellades
METHOD:PUBLISH
X-WR-CALNAME:capellades@capellades.cat
X-WR-TIMEZONE:Europe/Madrid
DESCRIPTION:Nova sessió de les estones de conversa en alemany per compartir una estona de conversa en aquesta llengua germànica.

URI:https://www.capellades.cat/actualitat/agenda/2468-estones-de-conversa-en-alemany.html
CLASS:PUBLIC
END:VEVENT
END:VCALENDAR
