BEGIN:VCALENDAR
VERSION:2.0
CALSCALE:GREGORIAN
PRODID:-//Diputació de Barcelona//DibaCMS//EN
BEGIN:VEVENT
UID:2419
DTSTAMP:20260420T133438
DTSTART:20170618T120000
DTEND:20170618T135000
SUMMARY:Festival de fi de curs de l'Escola Dance & Fun
LOCATION:C/ Pilar, 13 08786 Capellades
METHOD:PUBLISH
X-WR-CALNAME:capellades@capellades.cat
X-WR-TIMEZONE:Europe/Madrid
DESCRIPTION:L'escola de dansa Dance & Fun de Capellades ha organitzat el Festiva de fi de curs "El ritme que ens mou" per al diumenge 18 de juny, a les 12 del mgdia, a la sala Teatre de La Lliga de Capellades.

"Viu la dansa!"·

URI:https://www.capellades.cat/actualitat/agenda/festival-de-fi-de-curs-de-lescola-dance-and-fun.html
CLASS:PUBLIC
END:VEVENT
END:VCALENDAR
