BEGIN:VCALENDAR
VERSION:2.0
CALSCALE:GREGORIAN
PRODID:-//Diputació de Barcelona//DibaCMS//EN
BEGIN:VEVENT
UID:2277
DTSTAMP:20260421T104040
DTSTART:20170419T103000
DTEND:20170419T113000
SUMMARY:Oficina Mòbil Informació al Consumidor 
LOCATION:Plaça Verdaguer - 08786 Capellades - Barcelona  
METHOD:PUBLISH
X-WR-CALNAME:capellades@capellades.cat
X-WR-TIMEZONE:Europe/Madrid
DESCRIPTION:Pregunta tots els dubtes sobre consum a l'Oficina Mòbil, on us atendran tècnics de la Diputació de Barcelona de manera gratuïta i personalitzada.

Organitza Ajuntament i Diputació de Barcelona.

URI:https://www.capellades.cat/actualitat/agenda/oficina-mobil-informacio-al-consumidor-.html
CLASS:PUBLIC
END:VEVENT
END:VCALENDAR
