BEGIN:VCALENDAR
VERSION:2.0
CALSCALE:GREGORIAN
PRODID:-//Diputació de Barcelona//DibaCMS//EN
BEGIN:VEVENT
UID:2275
DTSTAMP:20260421T101532
DTSTART:20170412T190000
DTEND:20170412T201500
SUMMARY:Xerrada informativa: Les clàusules terra
LOCATION:C/ Pilar, 2 08786 Capellades
METHOD:PUBLISH
X-WR-CALNAME:capellades@capellades.cat
X-WR-TIMEZONE:Europe/Madrid
DESCRIPTION:Què podem fer si la nostra hipotèca té una clàusula terra? Xerrada a càrrec d'una Associació de Persones Consumidores.

Organitza Ajuntament, OMIC i Diputació de Barcelona.

URI:https://www.capellades.cat/actualitat/agenda/xerrada-informativa-les-clausules-terra.html
CLASS:PUBLIC
END:VEVENT
END:VCALENDAR
