BEGIN:VCALENDAR
VERSION:2.0
CALSCALE:GREGORIAN
PRODID:-//Diputació de Barcelona//DibaCMS//EN
BEGIN:VEVENT
UID:2264
DTSTAMP:20260421T185517
DTSTART:20170418T183000
DTEND:20170418T193000
SUMMARY:Presentació llibre infantil 
LOCATION:C/ Pilar, 2 08786 Capellades
METHOD:PUBLISH
X-WR-CALNAME:capellades@capellades.cat
X-WR-TIMEZONE:Europe/Madrid
DESCRIPTION:Presentació del llibre "Savis Caparruts, amb la presència de l'autor Albert Rossell". Seguidament, la contista Mònica Torra explicarà el conte sobre els capgrossos d'Igualada.

Activitat inclosa dins la Setmana Cultural de Sant Jordi.

Organitza Ajuntament de Capellades.

URI:https://www.capellades.cat/actualitat/agenda/presentacio-llibre-infantil-savis-caparruts-.html
CLASS:PUBLIC
END:VEVENT
END:VCALENDAR
