BEGIN:VCALENDAR
VERSION:2.0
CALSCALE:GREGORIAN
PRODID:-//Diputació de Barcelona//DibaCMS//EN
BEGIN:VEVENT
UID:2259
DTSTAMP:20260421T190043
DTSTART:20170414T200000
DTEND:20170414T205000
SUMMARY:Celebració mort del Senyor 
LOCATION:Plaça Verdaguer 08786 Capellades
METHOD:PUBLISH
X-WR-CALNAME:capellades@capellades.cat
X-WR-TIMEZONE:Europe/Madrid
DESCRIPTION:Organitza Parròquia de Santa Maria de Capellades. 

URI:https://www.capellades.cat/actualitat/agenda/celebracio-mort-del-senyor-.html
CLASS:PUBLIC
END:VEVENT
END:VCALENDAR
