BEGIN:VCALENDAR
VERSION:2.0
CALSCALE:GREGORIAN
PRODID:-//Diputació de Barcelona//DibaCMS//EN
BEGIN:VEVENT
UID:2060
DTSTAMP:20260419T190515
DTSTART:20170218T134500
DTEND:20170218T202500
SUMMARY:Cap de setmana de Futbol Sala  
LOCATION:Avda. Maties Guasch 08786 Capellades
METHOD:PUBLISH
X-WR-CALNAME:capellades@capellades.cat
X-WR-TIMEZONE:Europe/Madrid
DESCRIPTION:Vine el dissabte a animar les diferents categories del Club Futbol Sala Capellades! 

 

URI:https://www.capellades.cat/actualitat/agenda/2060-cap-de-setmana-de-futbol-sala-.html
CLASS:PUBLIC
END:VEVENT
END:VCALENDAR
