BEGIN:VCALENDAR
VERSION:2.0
CALSCALE:GREGORIAN
PRODID:-//Diputació de Barcelona//DibaCMS//EN
BEGIN:VEVENT
UID:2050
DTSTAMP:20260419T203922
DTSTART:20170219T100000
DTEND:20170219T140000
SUMMARY:I Open de Gimnàstica estètica de grup 
LOCATION:Avda. Maties Guasch 08786 Capellades
METHOD:PUBLISH
X-WR-CALNAME:capellades@capellades.cat
X-WR-TIMEZONE:Europe/Madrid
DESCRIPTION:Primer Open de Gimnàstica estètica de grup organitzat pel Club Rítmica Capellades amb el suport de l'Ajuntament de Capellades. 

 

 

URI:https://www.capellades.cat/actualitat/agenda/i-open-de-gimnastica-estetica-de-grup-.html
CLASS:PUBLIC
END:VEVENT
END:VCALENDAR
