BEGIN:VCALENDAR
VERSION:2.0
CALSCALE:GREGORIAN
PRODID:-//Diputació de Barcelona//DibaCMS//EN
BEGIN:VEVENT
UID:2049
DTSTAMP:20260419T191037
DTSTART:20170218T100000
DTEND:20170218T142500
SUMMARY:Visita al conjunt modernista de Sant Pau 
LOCATION:Carrer del Fossar - 08786 Capellades - Barcelona  
METHOD:PUBLISH
X-WR-CALNAME:capellades@capellades.cat
X-WR-TIMEZONE:Europe/Madrid
DESCRIPTION:Visita guiada pel recinte de Sant Pau modernista. Recorregut per l'obra de Lluís Domènech i Montaner, explicacions de l'arquitectura i disseny modernista i els usos té l'edifici actualment. 

Sortida des de l'esplanada del Fossar.

 

URI:https://www.capellades.cat/actualitat/agenda/visita-al-conjunt-modernista-de-sant-pau-.html
CLASS:PUBLIC
END:VEVENT
END:VCALENDAR
