BEGIN:VCALENDAR
VERSION:2.0
CALSCALE:GREGORIAN
PRODID:-//Diputació de Barcelona//DibaCMS//EN
BEGIN:VEVENT
UID:2035
DTSTAMP:20260419T191604
DTSTART:20170218T190000
DTEND:20170218T203000
SUMMARY:Concert d'hivern M2 DUO
LOCATION:C/ del Fossar, 4 08786 Capellades
METHOD:PUBLISH
X-WR-CALNAME:capellades@capellades.cat
X-WR-TIMEZONE:Europe/Madrid
DESCRIPTION:Concert d'hivern del Paper de Música amb el M2 Duo, format per Mireia Tarragó, Soprano, i Marina Pelfort, pianista amb obres de Clara Schumann, J. Brahms i E. Toldrà.

Per reservar cal trucar al tel. 93 801 40 43 (8 a 16 h de la tarda) o de dilluns a divendes al 93 801 17 07  (16 a 19 h de la tarda).

 

 

 

 

 

URI:https://www.capellades.cat/actualitat/agenda/concert-dhivern-m2-duo.html
CLASS:PUBLIC
END:VEVENT
END:VCALENDAR
