BEGIN:VCALENDAR
VERSION:2.0
CALSCALE:GREGORIAN
PRODID:-//Diputació de Barcelona//DibaCMS//EN
BEGIN:VEVENT
UID:2034
DTSTAMP:20260419T190857
DTSTART:20170216T191500
DTEND:20170216T201500
SUMMARY:Sessió participativa Pla d'igualtat de gènere 
LOCATION:C/ Pilar, 2 08786 Capellades
METHOD:PUBLISH
X-WR-CALNAME:capellades@capellades.cat
X-WR-TIMEZONE:Europe/Madrid
DESCRIPTION:Sessió participativa del Pla d'igualtat de gènere a la sala d'actes de la Biblioteca el Safareig.  Presentació de la diagnosi de la realitat municipal en prespectiva de gènere, Elaboració de propostes del Pla d'acció municipal 2017 - 2019.

Organitza l'Ajuntament de Capellades amb la col·laboració de la Diputació de Barcelona.

URI:https://www.capellades.cat/actualitat/agenda/sessio-participativa-pla-digualtat-de-genere-.html
CLASS:PUBLIC
END:VEVENT
END:VCALENDAR
