BEGIN:VCALENDAR
VERSION:2.0
CALSCALE:GREGORIAN
PRODID:-//Diputació de Barcelona//DibaCMS//EN
BEGIN:VEVENT
UID:2031
DTSTAMP:20260419T193535
DTSTART:20170216T210000
DTEND:20170216T230000
SUMMARY:Tast de vins i sopar amb maridatge 
LOCATION:C/ Pilar, 13 08786 Capellades
METHOD:PUBLISH
X-WR-CALNAME:capellades@capellades.cat
X-WR-TIMEZONE:Europe/Madrid
DESCRIPTION:Tast de vins amb sopar al Saló Rosa, la Bodega J.Torres posa el vi i la Cafeteria La Lliga el sopar maridatge. Organitza la Bodega J.Torres, la Cafeteria La Lliga i la Societat La Lliga.

Inscripcions a la Bodega Torres i a la Cafeteria La Lliga. 

URI:https://www.capellades.cat/actualitat/agenda/tast-de-vins-i-sopar-amb-maridatge-.html
CLASS:PUBLIC
END:VEVENT
END:VCALENDAR
