BEGIN:VCALENDAR
VERSION:2.0
CALSCALE:GREGORIAN
PRODID:-//Diputació de Barcelona//DibaCMS//EN
BEGIN:VEVENT
UID:2029
DTSTAMP:20260419T191422
DTSTART:20170216T160000
DTEND:20170216T190000
SUMMARY:Servei d'Informació i Atenció a les Dones (SIAD)  
LOCATION:C/ Pilar, 2 08786 Capellades
METHOD:PUBLISH
X-WR-CALNAME:capellades@capellades.cat
X-WR-TIMEZONE:Europe/Madrid
DESCRIPTION:Servei d'informació i atenció a les dones a la Biblioteca el Safareig. Organitza el DAE, l'Ajuntament de Capellades i el Consell Comarcal de l'Anoia.

Cal demanar cita prèvia al tel. 636 365 631

 

URI:https://www.capellades.cat/actualitat/agenda/servei-dinformacio-i-atencio-a-les-dones-siad-.html
CLASS:PUBLIC
END:VEVENT
END:VCALENDAR
