BEGIN:VCALENDAR
VERSION:2.0
CALSCALE:GREGORIAN
PRODID:-//Diputació de Barcelona//DibaCMS//EN
BEGIN:VEVENT
UID:2027
DTSTAMP:20260419T204022
DTSTART:20170216T151500
DTEND:20170216T164500
SUMMARY:Curs "Tecnologies de la informació aplicades al comerç" 
LOCATION:C/ Pilar, 2 08786 Capellades
METHOD:PUBLISH
X-WR-CALNAME:capellades@capellades.cat
X-WR-TIMEZONE:Europe/Madrid
DESCRIPTION:Curs de tecnologies de la informació aplicades al comerç pels socis de Capellades Comerç.

Organitza Capellades Comerç amb l'Ajuntament de Capellades.

URI:https://www.capellades.cat/actualitat/agenda/curs-tecnologies-de-la-informacio-aplicades-al-comerc-.html
CLASS:PUBLIC
END:VEVENT
END:VCALENDAR
