BEGIN:VCALENDAR
VERSION:2.0
CALSCALE:GREGORIAN
PRODID:-//Diputació de Barcelona//DibaCMS//EN
BEGIN:VEVENT
UID:2026
DTSTAMP:20260419T191056
DTSTART:20170215T190000
DTEND:20170215T200000
SUMMARY:Club de lectura amb el llibre "Puja a casa"
LOCATION:C/ Pilar, 2 08786 Capellades
METHOD:PUBLISH
X-WR-CALNAME:capellades@capellades.cat
X-WR-TIMEZONE:Europe/Madrid
DESCRIPTION:Primera trobada de l'any del club de lectura amb el llibre "Puja a casa" de Jordi Nopca, llibre que retrata amb tó humoristic la vida en parella i guanyador de Premi Documenta 2014. 

Organitza l'Ajuntament de Capellades. 

URI:https://www.capellades.cat/actualitat/agenda/club-de-lectura-amb-el-llibre-puja-a-casa.html
CLASS:PUBLIC
END:VEVENT
END:VCALENDAR
