BEGIN:VCALENDAR
VERSION:2.0
CALSCALE:GREGORIAN
PRODID:-//Diputació de Barcelona//DibaCMS//EN
BEGIN:VEVENT
UID:1971
DTSTAMP:20260421T125901
DTSTART:20170126T200000
DTEND:20170126T212000
SUMMARY:Xerrada i presentació del llibre "Per què la crisi no acabarà mai?"
LOCATION:C/ Pilar, 13 08786 Capellades
METHOD:PUBLISH
X-WR-CALNAME:capellades@capellades.cat
X-WR-TIMEZONE:Europe/Madrid
DESCRIPTION:Xerrada i presentació del llibre "Per què la crisi no acabarà mai?" a càrrec dels autors Francesc Sardà i Jordi Soler. Organitzat per la Societat la Lliga. 

URI:https://www.capellades.cat/actualitat/agenda/xerrada-i-presentacio-del-llibre-per-que-la-crisi-no-acabara-mai.html
CLASS:PUBLIC
END:VEVENT
END:VCALENDAR
