BEGIN:VCALENDAR
VERSION:2.0
CALSCALE:GREGORIAN
PRODID:-//Diputació de Barcelona//DibaCMS//EN
BEGIN:VEVENT
UID:1450
DTSTAMP:20260420T013945
DTSTART:20160226T000000
DTEND:20170110T130541
SUMMARY:Tot a punt per a la Festa Major d'Hivern
LOCATION:
METHOD:PUBLISH
X-WR-CALNAME:capellades@capellades.cat
X-WR-TIMEZONE:Europe/Madrid
DESCRIPTION:
URI:https://www.capellades.cat/actualitat/agenda/tot-a-punt-per-a-la-festa-major-dhivern.html
CLASS:PUBLIC
END:VEVENT
END:VCALENDAR
