BEGIN:VCALENDAR
VERSION:2.0
CALSCALE:GREGORIAN
PRODID:-//Diputació de Barcelona//DibaCMS//EN
BEGIN:VEVENT
UID:1448
DTSTAMP:20260419T215939
DTSTART:20160121T000000
DTEND:20170110T130540
SUMMARY:PP
LOCATION:
METHOD:PUBLISH
X-WR-CALNAME:capellades@capellades.cat
X-WR-TIMEZONE:Europe/Madrid
DESCRIPTION:
URI:https://www.capellades.cat/actualitat/agenda/pp.html
CLASS:PUBLIC
END:VEVENT
END:VCALENDAR
