BEGIN:VCALENDAR
VERSION:2.0
CALSCALE:GREGORIAN
PRODID:-//Diputació de Barcelona//DibaCMS//EN
BEGIN:VEVENT
UID:1447
DTSTAMP:20260419T145653
DTSTART:20160114T000000
DTEND:20170110T130539
SUMMARY:Caga Tió al Casal Cal Ponet
LOCATION:
METHOD:PUBLISH
X-WR-CALNAME:capellades@capellades.cat
X-WR-TIMEZONE:Europe/Madrid
DESCRIPTION:
URI:https://www.capellades.cat/actualitat/agenda/caga-tio-al-casal-cal-ponet.html
CLASS:PUBLIC
END:VEVENT
END:VCALENDAR
