BEGIN:VCALENDAR
VERSION:2.0
CALSCALE:GREGORIAN
PRODID:-//Diputació de Barcelona//DibaCMS//EN
BEGIN:VEVENT
UID:1446
DTSTAMP:20260419T170159
DTSTART:20151225T000000
DTEND:20170110T130537
SUMMARY:Avui és el Dia Internacional per a l'Eradicació de la Violència Masclista
LOCATION:
METHOD:PUBLISH
X-WR-CALNAME:capellades@capellades.cat
X-WR-TIMEZONE:Europe/Madrid
DESCRIPTION:Capellades se suma las actes previstos per aquest 25N.

URI:https://www.capellades.cat/actualitat/agenda/avui-es-el-dia-internacional-per-a-leradicacio-de-la-violencia-masclista.html
CLASS:PUBLIC
END:VEVENT
END:VCALENDAR
