BEGIN:VCALENDAR
VERSION:2.0
CALSCALE:GREGORIAN
PRODID:-//Diputació de Barcelona//DibaCMS//EN
BEGIN:VEVENT
UID:13640
DTSTAMP:20260421T170136
DTSTART:20260422T170000
DTEND:20260511T210000
SUMMARY:Tallers per sol·licitar beques per a estudis postobligatoris
LOCATION:
METHOD:PUBLISH
X-WR-CALNAME:capellades@capellades.cat
X-WR-TIMEZONE:Europe/Madrid
DESCRIPTION:Fins al 18 de maig és obert el termini per sol·licitar les beques per a estudis postobligatoris del curs 2026-2027 (batxillerat, formació professional en tots els seus nivells, ensenyaments artístics i esportius, estudis d’idiomes a escoles oficials, cursos d’accés, així com estudis universitaris i màsters).

URI:https://www.capellades.cat/actualitat/agenda/tallers-per-sollicitar-beques-per-a-estudis-postobligatoris.html
CLASS:PUBLIC
END:VEVENT
END:VCALENDAR
