BEGIN:VCALENDAR
VERSION:2.0
CALSCALE:GREGORIAN
PRODID:-//Diputació de Barcelona//DibaCMS//EN
BEGIN:VEVENT
UID:13639
DTSTAMP:20260421T170523
DTSTART:20260427T203000
DTEND:20260428T100000
SUMMARY:Festa popular del carrer Fondo
LOCATION:
METHOD:PUBLISH
X-WR-CALNAME:capellades@capellades.cat
X-WR-TIMEZONE:Europe/Madrid
DESCRIPTION:Aquest proper dilluns és 27 de d’abril i els veïns del carrer Fondo tornaran a celebrar la seva festa en homenatge a la mare de Deu de Montserrat.

URI:https://www.capellades.cat/actualitat/agenda/13639-festa-popular-del-carrer-fondo.html
CLASS:PUBLIC
END:VEVENT
END:VCALENDAR
