BEGIN:VCALENDAR
VERSION:2.0
CALSCALE:GREGORIAN
PRODID:-//Diputació de Barcelona//DibaCMS//EN
BEGIN:VEVENT
UID:13571
DTSTAMP:20260421T190119
DTSTART:20260308T120000
DTEND:20260308T140000
SUMMARY:Ballada de sardanes
LOCATION:
METHOD:PUBLISH
X-WR-CALNAME:capellades@capellades.cat
X-WR-TIMEZONE:Europe/Madrid
DESCRIPTION:Vine a ballar sardanes aquest diumenge 8 de març.

URI:https://www.capellades.cat/actualitat/agenda/13571-ballada-de-sardanes.html
CLASS:PUBLIC
END:VEVENT
END:VCALENDAR
