BEGIN:VCALENDAR
VERSION:2.0
CALSCALE:GREGORIAN
PRODID:-//Diputació de Barcelona//DibaCMS//EN
BEGIN:VEVENT
UID:13568
DTSTAMP:20260420T061212
DTSTART:20260327T170000
DTEND:20260327T190000
SUMMARY:Taller sobre igualtat de gènere
LOCATION:
METHOD:PUBLISH
X-WR-CALNAME:capellades@capellades.cat
X-WR-TIMEZONE:Europe/Madrid
DESCRIPTION:La Comissió Jove de La Lliga proposa un taller per al divendres 27 de març a les 17: Igualtat de gènere- Per què cal parlar-ne?

URI:https://www.capellades.cat/actualitat/agenda/taller-sobre-igualtat-de-genere.html
CLASS:PUBLIC
END:VEVENT
END:VCALENDAR
