BEGIN:VCALENDAR
VERSION:2.0
CALSCALE:GREGORIAN
PRODID:-//Diputació de Barcelona//DibaCMS//EN
BEGIN:VEVENT
UID:13440
DTSTAMP:20260425T183654
DTSTART:20251225T101500
DTEND:20251225T120000
SUMMARY:Cursa del Gall Dindi
LOCATION:
METHOD:PUBLISH
X-WR-CALNAME:capellades@capellades.cat
X-WR-TIMEZONE:Europe/Madrid
DESCRIPTION:Aquest any es farà la 44a edició de la Cursa del Gall Dindi - XXXIV Memorial Jaume Solé Quintana.

URI:https://www.capellades.cat/actualitat/agenda/13440-cursa-del-gall-dindi.html
CLASS:PUBLIC
END:VEVENT
END:VCALENDAR
