BEGIN:VCALENDAR
VERSION:2.0
CALSCALE:GREGORIAN
PRODID:-//Diputació de Barcelona//DibaCMS//EN
BEGIN:VEVENT
UID:13108
DTSTAMP:20260420T010919
DTSTART:20250608T180000
DTEND:20250608T200000
SUMMARY:Jonatan Carbó torna al Festival Internacional d'Orgue de Capellades 
LOCATION:
METHOD:PUBLISH
X-WR-CALNAME:capellades@capellades.cat
X-WR-TIMEZONE:Europe/Madrid
DESCRIPTION:"Toccates i fuges, preludis i fantasies..." és el títol del tercer concert d'aquesta desena edició del Festival Internacional d'Orgue de Capellades.

URI:https://www.capellades.cat/actualitat/agenda/jonatan-carbo-torna-al-festival-internacional-dorgue-de-capellades-.html
CLASS:PUBLIC
END:VEVENT
END:VCALENDAR
