BEGIN:VCALENDAR
VERSION:2.0
CALSCALE:GREGORIAN
PRODID:-//Diputació de Barcelona//DibaCMS//EN
BEGIN:VEVENT
UID:13081
DTSTAMP:20260420T055214
DTSTART:20250508T190000
DTEND:20250508T210000
SUMMARY:Xerrada sobre pactes i temes hereditaris
LOCATION:
METHOD:PUBLISH
X-WR-CALNAME:capellades@capellades.cat
X-WR-TIMEZONE:Europe/Madrid
DESCRIPTION:Avui dijous 8 de maig es farà una xerrada a la sala petita de La Lliga, a les 7 de la tarda.

URI:https://www.capellades.cat/actualitat/agenda/xerrada-sobre-pactes-i-temes-hereditaris.html
CLASS:PUBLIC
END:VEVENT
END:VCALENDAR
