BEGIN:VCALENDAR
VERSION:2.0
CALSCALE:GREGORIAN
PRODID:-//Diputació de Barcelona//DibaCMS//EN
BEGIN:VEVENT
UID:13014
DTSTAMP:20260419T153032
DTSTART:20250318T000000
DTEND:20250323T150000
SUMMARY:Diumenge es tanca la Biennal d'Art amb una performance
LOCATION:
METHOD:PUBLISH
X-WR-CALNAME:capellades@capellades.cat
X-WR-TIMEZONE:Europe/Madrid
DESCRIPTION:Aquest diumenge es farà al Museu Molí Paperer de Capellades la cloenda de la XII Biennal d'Art Riudebitlles amb la performance "Fragilitats".

URI:https://www.capellades.cat/actualitat/agenda/diumenge-es-tanca-la-biennal-dart-amb-una-performance.html
CLASS:PUBLIC
END:VEVENT
END:VCALENDAR
