BEGIN:VCALENDAR
VERSION:2.0
CALSCALE:GREGORIAN
PRODID:-//Diputació de Barcelona//DibaCMS//EN
BEGIN:VEVENT
UID:12994
DTSTAMP:20260419T232803
DTSTART:20250427T180000
DTEND:20250427T200000
SUMMARY:El Tartuf
LOCATION:
METHOD:PUBLISH
X-WR-CALNAME:capellades@capellades.cat
X-WR-TIMEZONE:Europe/Madrid
DESCRIPTION:El diumenge 27 d'abril s'acabarà la 2a Mostra de Teatre Amateur La Lliga amb l'obra "L'impostor o el Tartuf".

URI:https://www.capellades.cat/actualitat/agenda/el-tartuf.html
CLASS:PUBLIC
END:VEVENT
END:VCALENDAR
