BEGIN:VCALENDAR
VERSION:2.0
CALSCALE:GREGORIAN
PRODID:-//Diputació de Barcelona//DibaCMS//EN
BEGIN:VEVENT
UID:12984
DTSTAMP:20260419T163052
DTSTART:20250307T190000
DTEND:20250307T210000
SUMMARY:Cinema amb Vermiglio
LOCATION:
METHOD:PUBLISH
X-WR-CALNAME:capellades@capellades.cat
X-WR-TIMEZONE:Europe/Madrid
DESCRIPTION:Aquesta setmana la proposta cinematogràfica de La Lliga és "Vermiglio".

URI:https://www.capellades.cat/actualitat/agenda/cinema-amb-vermiglio.html
CLASS:PUBLIC
END:VEVENT
END:VCALENDAR
