BEGIN:VCALENDAR
VERSION:2.0
CALSCALE:GREGORIAN
PRODID:-//Diputació de Barcelona//DibaCMS//EN
BEGIN:VEVENT
UID:12973
DTSTAMP:20260420T061412
DTSTART:20250301T090000
DTEND:20250301T200000
SUMMARY:Dissabte de Botigues al carrer
LOCATION:
METHOD:PUBLISH
X-WR-CALNAME:capellades@capellades.cat
X-WR-TIMEZONE:Europe/Madrid
DESCRIPTION:Capellades Comerç proposa una nova edició de les Botigues al Carrer per aquest dissabte 1 de març

URI:https://www.capellades.cat/actualitat/agenda/dissabte-de-botigues-al-carrer.html
CLASS:PUBLIC
END:VEVENT
END:VCALENDAR
