BEGIN:VCALENDAR
VERSION:2.0
CALSCALE:GREGORIAN
PRODID:-//Diputació de Barcelona//DibaCMS//EN
BEGIN:VEVENT
UID:12968
DTSTAMP:20260419T163131
DTSTART:20250309T123000
DTEND:20250309T140000
SUMMARY:Conversa amb Maria Nicolau
LOCATION:
METHOD:PUBLISH
X-WR-CALNAME:capellades@capellades.cat
X-WR-TIMEZONE:Europe/Madrid
DESCRIPTION:Per celebrar el 8M, el Dia Internacional de les dones, a Capellades hi haurà propostes diferents, com la presentació del llibre "Cremo" de Maria Nicolau.

URI:https://www.capellades.cat/actualitat/agenda/conversa-amb-maria-nicolau.html
CLASS:PUBLIC
END:VEVENT
END:VCALENDAR
