BEGIN:VCALENDAR
VERSION:2.0
CALSCALE:GREGORIAN
PRODID:-//Diputació de Barcelona//DibaCMS//EN
BEGIN:VEVENT
UID:12954
DTSTAMP:20260419T200322
DTSTART:20250222T110000
DTEND:20250222T130000
SUMMARY:Portes obertes a l'escola Mare del Diví Pastor
LOCATION:
METHOD:PUBLISH
X-WR-CALNAME:capellades@capellades.cat
X-WR-TIMEZONE:Europe/Madrid
DESCRIPTION:El dissabte dia 22 de febrer d’11 a 13 h obrim les nostres portes perquè vingueu a conèixer-nos!

URI:https://www.capellades.cat/actualitat/agenda/12954-portes-obertes-a-lescola-mare-del-divi-pastor.html
CLASS:PUBLIC
END:VEVENT
END:VCALENDAR
