BEGIN:VCALENDAR
VERSION:2.0
CALSCALE:GREGORIAN
PRODID:-//Diputació de Barcelona//DibaCMS//EN
BEGIN:VEVENT
UID:12926
DTSTAMP:20260419T182835
DTSTART:20250207T190000
DTEND:20250207T210000
SUMMARY:Cinema amb Las vidas de Sing Sing
LOCATION:
METHOD:PUBLISH
X-WR-CALNAME:capellades@capellades.cat
X-WR-TIMEZONE:Europe/Madrid
DESCRIPTION:Una de les propostes d'aquesta Festa Major d'Hivern és el cinema del divendres 7 de febrer, a les 7 de la tarda.

URI:https://www.capellades.cat/actualitat/agenda/cinema-amb-las-vidas-de-sing-sing.html
CLASS:PUBLIC
END:VEVENT
END:VCALENDAR
