BEGIN:VCALENDAR
VERSION:2.0
CALSCALE:GREGORIAN
PRODID:-//Diputació de Barcelona//DibaCMS//EN
BEGIN:VEVENT
UID:12519
DTSTAMP:20260419T180133
DTSTART:20240602T083000
DTEND:20240602T183000
SUMMARY:Aplec dels Ateneus
LOCATION:
METHOD:PUBLISH
X-WR-CALNAME:capellades@capellades.cat
X-WR-TIMEZONE:Europe/Madrid
DESCRIPTION:La Lliga participa aquest diumenge en una trobada cultural: l'Aplec dels Ateneus.

URI:https://www.capellades.cat/actualitat/agenda/aplec-dels-ateneus.html
CLASS:PUBLIC
END:VEVENT
END:VCALENDAR
