BEGIN:VCALENDAR
VERSION:2.0
CALSCALE:GREGORIAN
PRODID:-//Diputació de Barcelona//DibaCMS//EN
BEGIN:VEVENT
UID:12477
DTSTAMP:20260419T165426
DTSTART:20240517T190000
DTEND:20240517T210000
SUMMARY:Cinema del Cicle Gaudí
LOCATION:
METHOD:PUBLISH
X-WR-CALNAME:capellades@capellades.cat
X-WR-TIMEZONE:Europe/Madrid
DESCRIPTION:Aquesta setmana el Cicle Gaudí ens porta "Un amor".

URI:https://www.capellades.cat/actualitat/agenda/cinema-del-cicle-gaudi.html
CLASS:PUBLIC
END:VEVENT
END:VCALENDAR
