BEGIN:VCALENDAR
VERSION:2.0
CALSCALE:GREGORIAN
PRODID:-//Diputació de Barcelona//DibaCMS//EN
BEGIN:VEVENT
UID:12382
DTSTAMP:20260419T202011
DTSTART:20240412T183000
DTEND:20240412T200000
SUMMARY:Òpera en cinema
LOCATION:
METHOD:PUBLISH
X-WR-CALNAME:capellades@capellades.cat
X-WR-TIMEZONE:Europe/Madrid
DESCRIPTION:
URI:https://www.capellades.cat/actualitat/agenda/12382-opera-en-cinema.html
CLASS:PUBLIC
END:VEVENT
END:VCALENDAR
