BEGIN:VCALENDAR
VERSION:2.0
CALSCALE:GREGORIAN
PRODID:-//Diputació de Barcelona//DibaCMS//EN
BEGIN:VEVENT
UID:12350
DTSTAMP:20260420T061313
DTSTART:20240315T170000
DTEND:20240315T190000
SUMMARY:Escape city feminista
LOCATION:
METHOD:PUBLISH
X-WR-CALNAME:capellades@capellades.cat
X-WR-TIMEZONE:Europe/Madrid
DESCRIPTION:La Cova se suma a les activitats previstes per al 8M amb un escape city feminista.

URI:https://www.capellades.cat/actualitat/agenda/escape-city-feminista.html
CLASS:PUBLIC
END:VEVENT
END:VCALENDAR
