BEGIN:VCALENDAR
VERSION:2.0
CALSCALE:GREGORIAN
PRODID:-//Diputació de Barcelona//DibaCMS//EN
BEGIN:VEVENT
UID:12322
DTSTAMP:20260421T110104
DTSTART:20240226T180000
DTEND:20240226T200000
SUMMARY:Laboratori de lectura "Hivern"
LOCATION:
METHOD:PUBLISH
X-WR-CALNAME:capellades@capellades.cat
X-WR-TIMEZONE:Europe/Madrid
DESCRIPTION:Aquest dilluns es farà un laboratori de lectura a la Biblioteca el Safareig.

URI:https://www.capellades.cat/actualitat/agenda/laboratori-de-lectura-hivern.html
CLASS:PUBLIC
END:VEVENT
END:VCALENDAR
