BEGIN:VCALENDAR
VERSION:2.0
CALSCALE:GREGORIAN
PRODID:-//Diputació de Barcelona//DibaCMS//EN
BEGIN:VEVENT
UID:12202
DTSTAMP:20260419T172514
DTSTART:20231213T000000
DTEND:20240114T120000
SUMMARY:2n Concurs fotogràfic nadalenc
LOCATION:
METHOD:PUBLISH
X-WR-CALNAME:capellades@capellades.cat
X-WR-TIMEZONE:Europe/Madrid
DESCRIPTION:L'Agrupació Fotogràfica Capellades i l'Ajuntament organitzen la segona edició d'aquest concurs de fotografies.

URI:https://www.capellades.cat/actualitat/agenda/2n-concurs-fotografic-nadalenc.html
CLASS:PUBLIC
END:VEVENT
END:VCALENDAR
